Package: retrofit Version: 1.10.0 Command: /home/biocbuild/R/R/bin/R CMD INSTALL retrofit StartedAt: 2025-11-13 21:04:04 -0000 (Thu, 13 Nov 2025) EndedAt: 2025-11-13 21:04:35 -0000 (Thu, 13 Nov 2025) EllapsedTime: 31.1 seconds RetCode: 0 Status: OK