Package: retrofit Version: 1.10.0 Command: /home/biocbuild/bbs-3.22-bioc/R/bin/R CMD check --install=check:retrofit.install-out.txt --library=/home/biocbuild/bbs-3.22-bioc/R/site-library --timings retrofit_1.10.0.tar.gz StartedAt: 2025-11-12 03:19:04 -0500 (Wed, 12 Nov 2025) EndedAt: 2025-11-12 03:19:58 -0500 (Wed, 12 Nov 2025) EllapsedTime: 54.0 seconds RetCode: 0 Status: OK CheckDir: retrofit.Rcheck Warnings: 0