Package: retrofit Version: 1.8.0 Command: /home/biocbuild/bbs-3.21-bioc/R/bin/R CMD INSTALL retrofit StartedAt: 2025-10-05 15:03:05 -0400 (Sun, 05 Oct 2025) EndedAt: 2025-10-05 15:03:43 -0400 (Sun, 05 Oct 2025) EllapsedTime: 38.1 seconds RetCode: 0 Status: OK