Package: retrofit Version: 1.8.0 Command: /home/biocbuild/bbs-3.21-bioc/R/bin/R CMD build --keep-empty-dirs --no-resave-data retrofit StartedAt: 2025-10-05 19:28:38 -0400 (Sun, 05 Oct 2025) EndedAt: 2025-10-05 19:29:20 -0400 (Sun, 05 Oct 2025) EllapsedTime: 42.0 seconds RetCode: 0 Status: OK PackageFile: retrofit_1.8.0.tar.gz PackageFileSize: 4.705 MiB