Package: retrofit Version: 1.8.0 Command: /Library/Frameworks/R.framework/Resources/bin/R CMD build --keep-empty-dirs --no-resave-data retrofit StartedAt: 2025-10-07 07:57:58 -0400 (Tue, 07 Oct 2025) EndedAt: 2025-10-07 07:58:55 -0400 (Tue, 07 Oct 2025) EllapsedTime: 56.3 seconds RetCode: 0 Status: OK PackageFile: retrofit_1.8.0.tar.gz PackageFileSize: 4.576 MiB