Package: regutools Version: 1.22.0 Command: /home/biocbuild/bbs-3.22-bioc/R/bin/R CMD INSTALL regutools StartedAt: 2025-11-11 15:53:02 -0500 (Tue, 11 Nov 2025) EndedAt: 2025-11-11 15:54:02 -0500 (Tue, 11 Nov 2025) EllapsedTime: 59.8 seconds RetCode: 0 Status: OK