Package: regutools Version: 1.22.0 Command: /home/biocbuild/bbs-3.22-bioc/R/bin/R CMD build --keep-empty-dirs --no-resave-data --md5 regutools StartedAt: 2025-11-11 19:42:13 -0500 (Tue, 11 Nov 2025) EndedAt: 2025-11-11 19:43:38 -0500 (Tue, 11 Nov 2025) EllapsedTime: 85.1 seconds RetCode: 0 Status: OK PackageFile: regutools_1.22.0.tar.gz PackageFileSize: 375.6 KiB