Package: regutools Version: 1.22.0 Command: /Library/Frameworks/R.framework/Resources/bin/R CMD build --keep-empty-dirs --no-resave-data regutools StartedAt: 2025-11-03 18:26:14 -0500 (Mon, 03 Nov 2025) EndedAt: 2025-11-03 18:28:03 -0500 (Mon, 03 Nov 2025) EllapsedTime: 108.6 seconds RetCode: 0 Status: OK PackageFile: regutools_1.22.0.tar.gz PackageFileSize: 379.1 KiB