Package: regutools Version: 1.22.0 Command: rm -rf regutools.buildbin-libdir && mkdir regutools.buildbin-libdir && /Users/biocbuild/BBS/utils/build-universal.sh regutools_1.22.0.tar.gz /Library/Frameworks/R.framework/Resources/bin/R regutools.buildbin-libdir StartedAt: 2025-11-04 01:58:50 -0500 (Tue, 04 Nov 2025) EndedAt: 2025-11-04 02:00:08 -0500 (Tue, 04 Nov 2025) EllapsedTime: 78.3 seconds RetCode: 0 Status: OK PackageFile: regutools_1.22.0.tgz PackageFileSize: 945.7 KiB