Package: regutools Version: 1.20.0 Command: /home/biocbuild/R/R/bin/R CMD build --keep-empty-dirs --no-resave-data regutools StartedAt: 2025-10-14 03:58:06 -0000 (Tue, 14 Oct 2025) EndedAt: 2025-10-14 04:00:14 -0000 (Tue, 14 Oct 2025) EllapsedTime: 128.0 seconds RetCode: 0 Status: OK PackageFile: regutools_1.20.0.tar.gz PackageFileSize: 397.8 KiB