Package: regsplice Version: 1.36.0 Command: /home/biocbuild/bbs-3.22-bioc/R/bin/R CMD INSTALL regsplice StartedAt: 2025-11-14 15:25:25 -0500 (Fri, 14 Nov 2025) EndedAt: 2025-11-14 15:25:48 -0500 (Fri, 14 Nov 2025) EllapsedTime: 22.9 seconds RetCode: 0 Status: OK