Package: recoup Version: 1.38.0 Command: rm -rf recoup.buildbin-libdir && mkdir recoup.buildbin-libdir && /Users/biocbuild/BBS/utils/build-universal.sh recoup_1.38.0.tar.gz /Library/Frameworks/R.framework/Resources/bin/R recoup.buildbin-libdir StartedAt: 2025-11-04 01:58:38 -0500 (Tue, 04 Nov 2025) EndedAt: 2025-11-04 01:59:45 -0500 (Tue, 04 Nov 2025) EllapsedTime: 66.9 seconds RetCode: 0 Status: OK PackageFile: recoup_1.38.0.tgz PackageFileSize: 2.69 MiB