Package: recoup Version: 1.36.0 Command: /home/biocbuild/R/R/bin/R CMD INSTALL recoup StartedAt: 2025-10-06 20:54:20 -0000 (Mon, 06 Oct 2025) EndedAt: 2025-10-06 20:55:22 -0000 (Mon, 06 Oct 2025) EllapsedTime: 62.0 seconds RetCode: 0 Status: OK