Package: recoup Version: 1.36.0 Command: /home/biocbuild/R/R/bin/R CMD build --keep-empty-dirs --no-resave-data recoup StartedAt: 2025-10-07 03:54:50 -0000 (Tue, 07 Oct 2025) EndedAt: 2025-10-07 03:56:14 -0000 (Tue, 07 Oct 2025) EllapsedTime: 84.0 seconds RetCode: 0 Status: OK PackageFile: recoup_1.36.0.tar.gz PackageFileSize: 2.318 MiB