Package: recountmethylation Version: 1.20.0 Command: /home/biocbuild/bbs-3.22-bioc/R/bin/R CMD INSTALL recountmethylation StartedAt: 2025-11-11 15:47:24 -0500 (Tue, 11 Nov 2025) EndedAt: 2025-11-11 15:47:27 -0500 (Tue, 11 Nov 2025) EllapsedTime: 2.4 seconds RetCode: 0 Status: OK