Package: recountmethylation Version: 1.20.0 Command: /Library/Frameworks/R.framework/Resources/bin/R CMD build --keep-empty-dirs --no-resave-data recountmethylation StartedAt: 2025-11-10 17:29:06 -0500 (Mon, 10 Nov 2025) EndedAt: 2025-11-10 17:30:07 -0500 (Mon, 10 Nov 2025) EllapsedTime: 61.7 seconds RetCode: 0 Status: OK PackageFile: recountmethylation_1.20.0.tar.gz PackageFileSize: 4.858 MiB