Package: recountmethylation Version: 1.20.0 Command: rm -rf recountmethylation.buildbin-libdir && mkdir recountmethylation.buildbin-libdir && /Users/biocbuild/BBS/utils/build-universal.sh recountmethylation_1.20.0.tar.gz /Library/Frameworks/R.framework/Resources/bin/R recountmethylation.buildbin-libdir StartedAt: 2025-11-10 23:32:55 -0500 (Mon, 10 Nov 2025) EndedAt: 2025-11-10 23:32:57 -0500 (Mon, 10 Nov 2025) EllapsedTime: 2.0 seconds RetCode: 0 Status: OK PackageFile: recountmethylation_1.20.0.tgz PackageFileSize: 4.794 MiB