Package: recount3 Version: 1.20.0 Command: /home/biocbuild/bbs-3.22-bioc/R/bin/R CMD INSTALL recount3 StartedAt: 2025-11-11 15:36:55 -0500 (Tue, 11 Nov 2025) EndedAt: 2025-11-11 15:37:28 -0500 (Tue, 11 Nov 2025) EllapsedTime: 33.1 seconds RetCode: 0 Status: OK