Package: recount3 Version: 1.20.0 Command: /home/biocbuild/bbs-3.22-bioc/R/bin/R CMD build --keep-empty-dirs --no-resave-data --md5 recount3 StartedAt: 2025-11-11 19:40:58 -0500 (Tue, 11 Nov 2025) EndedAt: 2025-11-11 19:43:02 -0500 (Tue, 11 Nov 2025) EllapsedTime: 124.1 seconds RetCode: 0 Status: OK PackageFile: recount3_1.20.0.tar.gz PackageFileSize: 564.4 KiB