Package: recount3 Version: 1.20.0 Command: /Library/Frameworks/R.framework/Resources/bin/R CMD INSTALL recount3 StartedAt: 2025-11-10 15:18:20 -0500 (Mon, 10 Nov 2025) EndedAt: 2025-11-10 15:18:34 -0500 (Mon, 10 Nov 2025) EllapsedTime: 13.9 seconds RetCode: 0 Status: OK