Package: recount3 Version: 1.20.0 Command: /Library/Frameworks/R.framework/Resources/bin/R CMD build --keep-empty-dirs --no-resave-data recount3 StartedAt: 2025-11-10 17:29:03 -0500 (Mon, 10 Nov 2025) EndedAt: 2025-11-10 17:30:10 -0500 (Mon, 10 Nov 2025) EllapsedTime: 67.8 seconds RetCode: 0 Status: OK PackageFile: recount3_1.20.0.tar.gz PackageFileSize: 562.1 KiB