Package: reconsi Version: 1.22.0 Command: /home/biocbuild/bbs-3.22-bioc/R/bin/R CMD INSTALL reconsi StartedAt: 2025-11-14 15:24:17 -0500 (Fri, 14 Nov 2025) EndedAt: 2025-11-14 15:24:38 -0500 (Fri, 14 Nov 2025) EllapsedTime: 21.1 seconds RetCode: 0 Status: OK