Package: reconsi Version: 1.22.0 Command: /home/biocbuild/bbs-3.22-bioc/R/bin/R CMD build --keep-empty-dirs --no-resave-data --md5 reconsi StartedAt: 2025-11-14 19:40:56 -0500 (Fri, 14 Nov 2025) EndedAt: 2025-11-14 19:42:08 -0500 (Fri, 14 Nov 2025) EllapsedTime: 72.1 seconds RetCode: 0 Status: OK PackageFile: reconsi_1.22.0.tar.gz PackageFileSize: 126.2 KiB