Package: receptLoss Version: 1.22.0 Command: /home/biocbuild/bbs-3.22-bioc/R/bin/R CMD INSTALL receptLoss StartedAt: 2025-11-14 15:34:08 -0500 (Fri, 14 Nov 2025) EndedAt: 2025-11-14 15:34:31 -0500 (Fri, 14 Nov 2025) EllapsedTime: 23.1 seconds RetCode: 0 Status: OK