Package: receptLoss Version: 1.22.0 Command: /home/biocbuild/bbs-3.22-bioc/R/bin/R CMD build --keep-empty-dirs --no-resave-data --md5 receptLoss StartedAt: 2025-11-14 19:40:56 -0500 (Fri, 14 Nov 2025) EndedAt: 2025-11-14 19:41:27 -0500 (Fri, 14 Nov 2025) EllapsedTime: 31.1 seconds RetCode: 0 Status: OK PackageFile: receptLoss_1.22.0.tar.gz PackageFileSize: 639.9 KiB