Package: rebook Version: 1.20.0 Command: /home/biocbuild/bbs-3.22-bioc/R/bin/R CMD INSTALL rebook StartedAt: 2025-11-13 15:12:54 -0500 (Thu, 13 Nov 2025) EndedAt: 2025-11-13 15:13:00 -0500 (Thu, 13 Nov 2025) EllapsedTime: 5.4 seconds RetCode: 0 Status: OK