Package: rebook Version: 1.20.0 Command: /home/biocbuild/bbs-3.22-bioc/R/bin/R CMD build --keep-empty-dirs --no-resave-data --md5 rebook StartedAt: 2025-11-13 19:39:43 -0500 (Thu, 13 Nov 2025) EndedAt: 2025-11-13 19:40:02 -0500 (Thu, 13 Nov 2025) EllapsedTime: 19.0 seconds RetCode: 0 Status: OK PackageFile: rebook_1.20.0.tar.gz PackageFileSize: 265.5 KiB