Package: rcellminer Version: 2.30.1 Command: /home/biocbuild/R/R/bin/R CMD build --keep-empty-dirs --no-resave-data rcellminer StartedAt: 2025-10-14 03:52:44 -0000 (Tue, 14 Oct 2025) EndedAt: 2025-10-14 03:56:17 -0000 (Tue, 14 Oct 2025) EllapsedTime: 213.1 seconds RetCode: 0 Status: OK PackageFile: rcellminer_2.30.1.tar.gz PackageFileSize: 2.326 MiB