Package: rcellminer Version: 2.32.0 Command: /Library/Frameworks/R.framework/Resources/bin/R CMD build --keep-empty-dirs --no-resave-data rcellminer StartedAt: 2025-10-31 17:31:08 -0400 (Fri, 31 Oct 2025) EndedAt: 2025-10-31 17:32:24 -0400 (Fri, 31 Oct 2025) EllapsedTime: 75.9 seconds RetCode: 0 Status: OK PackageFile: rcellminer_2.32.0.tar.gz PackageFileSize: 2.66 MiB