Package: rbsurv Version: 2.68.0 Command: /home/biocbuild/bbs-3.22-bioc/R/bin/R CMD INSTALL rbsurv StartedAt: 2025-11-17 17:12:52 -0500 (Mon, 17 Nov 2025) EndedAt: 2025-11-17 17:12:58 -0500 (Mon, 17 Nov 2025) EllapsedTime: 6.1 seconds RetCode: 0 Status: OK