Package: rbsurv Version: 2.68.0 Command: /home/biocbuild/bbs-3.22-bioc/R/bin/R CMD build --keep-empty-dirs --no-resave-data --md5 rbsurv StartedAt: 2025-11-17 22:57:21 -0500 (Mon, 17 Nov 2025) EndedAt: 2025-11-17 22:57:49 -0500 (Mon, 17 Nov 2025) EllapsedTime: 28.0 seconds RetCode: 0 Status: OK PackageFile: rbsurv_2.68.0.tar.gz PackageFileSize: 367.3 KiB