Package: rawrr Version: 1.18.0 Command: /home/biocbuild/bbs-3.22-bioc/R/bin/R CMD INSTALL rawrr StartedAt: 2025-11-13 15:02:38 -0500 (Thu, 13 Nov 2025) EndedAt: 2025-11-13 15:02:41 -0500 (Thu, 13 Nov 2025) EllapsedTime: 3.3 seconds RetCode: 0 Status: OK