Package: rawDiag Version: 1.6.0 Command: /Library/Frameworks/R.framework/Resources/bin/R CMD INSTALL rawDiag StartedAt: 2025-11-03 15:04:55 -0500 (Mon, 03 Nov 2025) EndedAt: 2025-11-03 15:05:00 -0500 (Mon, 03 Nov 2025) EllapsedTime: 5.5 seconds RetCode: 0 Status: OK