Package: randRotation Version: 1.22.0 Command: /home/biocbuild/R/R/bin/R CMD build --keep-empty-dirs --no-resave-data randRotation StartedAt: 2025-11-11 04:21:53 -0000 (Tue, 11 Nov 2025) EndedAt: 2025-11-11 04:24:24 -0000 (Tue, 11 Nov 2025) EllapsedTime: 151.1 seconds RetCode: 0 Status: OK PackageFile: randRotation_1.22.0.tar.gz PackageFileSize: 961.7 KiB