Package: randRotation Version: 1.22.0 Command: /home/biocbuild/bbs-3.22-bioc/R/bin/R CMD INSTALL randRotation StartedAt: 2025-11-13 15:03:56 -0500 (Thu, 13 Nov 2025) EndedAt: 2025-11-13 15:04:16 -0500 (Thu, 13 Nov 2025) EllapsedTime: 20.2 seconds RetCode: 0 Status: OK