Package: randRotation Version: 1.22.0 Command: /home/biocbuild/bbs-3.22-bioc/R/bin/R CMD check --install=check:randRotation.install-out.txt --library=/home/biocbuild/bbs-3.22-bioc/R/site-library --timings randRotation_1.22.0.tar.gz StartedAt: 2025-11-14 03:10:52 -0500 (Fri, 14 Nov 2025) EndedAt: 2025-11-14 03:13:21 -0500 (Fri, 14 Nov 2025) EllapsedTime: 149.2 seconds RetCode: 0 Status: OK CheckDir: randRotation.Rcheck Warnings: 0