Package: randRotation Version: 1.22.0 Command: /home/biocbuild/bbs-3.22-bioc/R/bin/R CMD build --keep-empty-dirs --no-resave-data --md5 randRotation StartedAt: 2025-11-14 19:36:51 -0500 (Fri, 14 Nov 2025) EndedAt: 2025-11-14 19:38:35 -0500 (Fri, 14 Nov 2025) EllapsedTime: 104.1 seconds RetCode: 0 Status: OK PackageFile: randRotation_1.22.0.tar.gz PackageFileSize: 975.8 KiB