Package: randRotation Version: 1.20.0 Command: /home/biocbuild/bbs-3.21-bioc/R/bin/R CMD INSTALL randRotation StartedAt: 2025-09-28 15:18:37 -0400 (Sun, 28 Sep 2025) EndedAt: 2025-09-28 15:18:56 -0400 (Sun, 28 Sep 2025) EllapsedTime: 19.3 seconds RetCode: 0 Status: OK