Package: randRotation Version: 1.20.0 Command: /Library/Frameworks/R.framework/Resources/bin/R CMD build --keep-empty-dirs --no-resave-data randRotation StartedAt: 2025-10-09 21:51:01 -0400 (Thu, 09 Oct 2025) EndedAt: 2025-10-09 21:55:43 -0400 (Thu, 09 Oct 2025) EllapsedTime: 281.8 seconds RetCode: 0 Status: OK PackageFile: randRotation_1.20.0.tar.gz PackageFileSize: 973.5 KiB