Package: randRotation Version: 1.20.0 Command: rm -rf randRotation.buildbin-libdir && mkdir randRotation.buildbin-libdir && /Users/biocbuild/BBS/utils/build-universal.sh randRotation_1.20.0.tar.gz /Library/Frameworks/R.framework/Resources/bin/R randRotation.buildbin-libdir StartedAt: 2025-10-10 14:29:38 -0400 (Fri, 10 Oct 2025) EndedAt: 2025-10-10 14:29:50 -0400 (Fri, 10 Oct 2025) EllapsedTime: 11.7 seconds RetCode: 0 Status: OK PackageFile: randRotation_1.20.0.tgz PackageFileSize: 1.122 MiB