Package: randPack Version: 1.56.0 Command: /home/biocbuild/bbs-3.22-bioc/R/bin/R CMD INSTALL randPack StartedAt: 2025-11-11 16:04:00 -0500 (Tue, 11 Nov 2025) EndedAt: 2025-11-11 16:04:04 -0500 (Tue, 11 Nov 2025) EllapsedTime: 4.1 seconds RetCode: 0 Status: OK