Package: ramr Version: 1.18.0 Command: /home/biocbuild/R/R/bin/R CMD build --keep-empty-dirs --no-resave-data ramr StartedAt: 2025-11-14 04:26:03 -0000 (Fri, 14 Nov 2025) EndedAt: 2025-11-14 04:29:49 -0000 (Fri, 14 Nov 2025) EllapsedTime: 226.1 seconds RetCode: 0 Status: OK PackageFile: ramr_1.18.0.tar.gz PackageFileSize: 2.439 MiB