Package: ramr Version: 1.18.0 Command: /home/biocbuild/bbs-3.22-bioc/R/bin/R CMD INSTALL ramr StartedAt: 2025-11-11 15:19:29 -0500 (Tue, 11 Nov 2025) EndedAt: 2025-11-11 15:20:27 -0500 (Tue, 11 Nov 2025) EllapsedTime: 58.2 seconds RetCode: 0 Status: OK