Package: ramr Version: 1.18.0 Command: /home/biocbuild/bbs-3.22-bioc/R/bin/R CMD check --install=check:ramr.install-out.txt --library=/home/biocbuild/bbs-3.22-bioc/R/site-library --timings ramr_1.18.0.tar.gz StartedAt: 2025-11-12 03:08:37 -0500 (Wed, 12 Nov 2025) EndedAt: 2025-11-12 03:13:54 -0500 (Wed, 12 Nov 2025) EllapsedTime: 316.5 seconds RetCode: 0 Status: OK CheckDir: ramr.Rcheck Warnings: 0