Package: ramr Version: 1.16.0 Command: /home/biocbuild/bbs-3.21-bioc/R/bin/R CMD build --keep-empty-dirs --no-resave-data ramr StartedAt: 2025-10-08 19:19:28 -0400 (Wed, 08 Oct 2025) EndedAt: 2025-10-08 19:21:27 -0400 (Wed, 08 Oct 2025) EllapsedTime: 119.1 seconds RetCode: 0 Status: OK PackageFile: ramr_1.16.0.tar.gz PackageFileSize: 2.754 MiB