Package: rain Version: 1.44.0 Command: /Library/Frameworks/R.framework/Resources/bin/R CMD build --keep-empty-dirs --no-resave-data rain StartedAt: 2025-11-10 17:26:44 -0500 (Mon, 10 Nov 2025) EndedAt: 2025-11-10 17:26:57 -0500 (Mon, 10 Nov 2025) EllapsedTime: 13.2 seconds RetCode: 0 Status: OK PackageFile: rain_1.44.0.tar.gz PackageFileSize: 604.4 KiB