Package: rain Version: 1.44.0 Command: rm -rf rain.buildbin-libdir && mkdir rain.buildbin-libdir && /Users/biocbuild/BBS/utils/build-universal.sh rain_1.44.0.tar.gz /Library/Frameworks/R.framework/Resources/bin/R rain.buildbin-libdir StartedAt: 2025-11-10 23:32:27 -0500 (Mon, 10 Nov 2025) EndedAt: 2025-11-10 23:32:31 -0500 (Mon, 10 Nov 2025) EllapsedTime: 4.1 seconds RetCode: 0 Status: OK PackageFile: rain_1.44.0.tgz PackageFileSize: 632.6 KiB