Package: raer Version: 1.8.0 Command: /home/biocbuild/bbs-3.22-bioc/R/bin/R CMD INSTALL raer StartedAt: 2025-11-11 15:43:27 -0500 (Tue, 11 Nov 2025) EndedAt: 2025-11-11 15:44:13 -0500 (Tue, 11 Nov 2025) EllapsedTime: 45.7 seconds RetCode: 0 Status: OK