Package: rWikiPathways Version: 1.30.0 Command: /home/biocbuild/bbs-3.22-bioc/R/bin/R CMD INSTALL rWikiPathways StartedAt: 2025-11-13 15:10:20 -0500 (Thu, 13 Nov 2025) EndedAt: 2025-11-13 15:10:28 -0500 (Thu, 13 Nov 2025) EllapsedTime: 8.4 seconds RetCode: 0 Status: OK