Package: rWikiPathways Version: 1.30.0 Command: /Library/Frameworks/R.framework/Resources/bin/R CMD build --keep-empty-dirs --no-resave-data rWikiPathways StartedAt: 2025-11-10 17:36:06 -0500 (Mon, 10 Nov 2025) EndedAt: 2025-11-10 17:36:14 -0500 (Mon, 10 Nov 2025) EllapsedTime: 8.1 seconds RetCode: 0 Status: OK PackageFile: rWikiPathways_1.30.0.tar.gz PackageFileSize: 10.38 MiB